BEGIN:VCALENDAR
VERSION:2.0
METHOD:PUBLISH
PRODID:-//Agenda.ad//NONSGML v1.0//EN
BEGIN:VEVENT
CLASS:PUBLIC
UID:3cbb0afea3b06579731f5ce1987e59e7@agenda.ad
DTSTAMP:20260424T081600Z
DTSTART:20191129T230000Z
DTEND:20191129T230000Z
SUMMARY:Duo Albelda &amp; Licciardi&nbsp;al&nbsp;<span>Cambra Rom&agrave;nica</span>
DESCRIPTION:\n\nMÃ©s informaciÃ³\nhttps://www.agenda.ad/activitat/canill
 o/musica/duo-albelda-and-licciardiÂ alÂ cambra-romanica\nwww
 .amicscambraromanica.ad+376 673 434\n\nOrganitza\nAssociaciÃ
 ³ Amics del Cambra RomÃ nica
LOCATION:EsglÃ©sia de Sant Serni
SEQUENCE:0
TRANSP:OPAQUE
X-ALT-DESC;FMTTYPE=text/html:<!DOCTYPE HTML PUBLIC "-//W3C//DTD HTML 3.2//EN"><HTML><HEAD
 ><TITLE></TITLE></HEAD><BODY><FONT FACE="Arial" SIZE=2><br/>
 <br/><b>MÃ©s informaciÃ³</b><br/><a href="https://www.agenda
 .ad/activitat/canillo/musica/duo-albelda-and-licciardiÂ alÂ 
 cambra-romanica">https://www.agenda.ad/activitat/canillo/mus
 ica/duo-albelda-and-licciardiÂ alÂ cambra-romanica</a><br/>w
 ww.amicscambraromanica.ad+376 673 434<br/><br/><b>Organitza<
 /b><br/>AssociaciÃ³ Amics del Cambra RomÃ nica</FONT></BODY>
 </HTML>
END:VEVENT
END:VCALENDAR